Workbook
Name A._Board_Composition: 'FORM '!$B$17
Name B._Directors_Registry: 'FORM '!$B$33
Name C._BOD_and_CS_Key_Responsibilities: 'FORM '!$B$42
Name KPIs: 'FORM '!$D$81
Name Segment_1__The_Board: 'FORM '!$B$16

Sheet FORM 
A1: SOEs GOVERNANCE SELF REVIEW TOOL PRIVATIZATION AND CORPORATIZATION BOARD (PCB)
A4: SOE Name:
A5: Filled by:
A6: Position:
A7: Contact No:
A8: Date:
A10: EVALUATION YEAR | D10: 2025
A14: All State-Owned Enterprises (SOEs) are mandated to comply with the Corporate Governance (CG) code. Additionally, they must adhere to circulars and instructions issued by the Privatization and Corporatization Board, as stipulated in Act No. 03/2013. This review is conducted to assess the level of compliance by SOEs. Instructions: * Write or Select the appropriate option from the dropdown menu. For numerical values, please write a whole number. For Year write in the format 2099 * If you have any comments or reasons, please include them in the "Remarks/Reasons" column. * Further details will appear when you hover the cursor over the cell (Write/select from the dropdown list).
B16: Segment 1: The Board
B17: A. Board Composition | E17: Write/Select from the dropdown list | F17: Score | G17: Earned | H17: Company - Remarks / Reasons
B18: 1 | C18: Total Board members as per AOA | E18: 7
B19: Company will not be penalized if sufficient contacts were done to PCB regarding Board Composition
B20: 2 | C20: Number of Appointed BODs as at the end of the evaluating year | E20: 7 | F20: =IF(E18=E20,20,0) -> 20 | G20: =IF($F$20=20,20,(IF($E$21="Yes (in remarks write letter NO/ if Email write emailed date)",20,0))) -> 20
D21: is there any formal communication done with PCB (Letter/Email) regarding Composition issues? | E21: Yes (in remarks write letter NO/ if Email write emailed date)
B22: 3 | C22: Balance of the Board Appointments at the end of the evaluating year
C23: i. | D23: Executive (currently appointed) | E23: 2 | F23: =IF(SUM(E23:E25)<>E20,0,(IF(E23>(E24+E25),0,40))) -> 40 | G23: =IF(SUM(E23:E25)<>E20,0,(IF($F$23=40,40,(IF($E$26="Yes (in remarks write letter NO/ if Email write emailed date)",40,0))))) -> 40
C24: ii. | D24: Non-executive (currently appointed) | E24: 4
C25: iii. | D25: Independent (currently appointed) | E25: 1 | G25: =IF(F25=20,20,(IF(E26="Yes (in remarks write letter NO/ if Email write emailed date)",20,0))) -> 20
D26: is there any formal communication done with PCB (Letter/Email) regarding Composition issues? | E26: Yes (in remarks write letter NO/ if Email write emailed date)
B27: 4 | C27: Board Diversity at the end of the evaluating year
C28: i. | D28: Male (currently appointed) | E28: 6 | F28: =IF(SUM(E28:E29)<>E20,0,(IF(E29>0,40,0))) -> 40 | G28: =IF(SUM(E28:E29)<>E20,0,(IF($F$28=40,40,(IF($E$30="Yes (in remarks write letter NO/ if Email write emailed date)",40,0))))) -> 40
C29: ii. | D29: Female (currently appointed) | E29: 1
D30: is there any formal communication done with PCB (Letter/Email) regarding Composition issues? | E30: No
B31: Total Earned | F31: =F20+F23+F28 -> 100 | G31: =G20+G23+G28 -> 100
B33: B. Directors Registry | E33: Write/Select from the dropdown list | F33: Score | G33: Earned | H33: Remarks / Reasons
B34: 1 | C34: Register of directors | E34: Maintained and Shared with PCB | F34: =IFERROR(VLOOKUP(E34,KPIs!$A$3:$B$6,2,FALSE),0) -> 20 | G34: =F34 -> 20
B35: 2 | C35: Register of directors includes:
C36: i | D36: Academic and education qualifications | E36: All BODs updated | F36: =IFERROR(IF($E$34="Not Maintained",0,((VLOOKUP('FORM '!E36,KPIs!$A$8:$B$12,2,FALSE)))),0) -> 20 | G36: =F36 -> 20
C37: ii | D37: Professional Experience | E37: All BODs updated | F37: =IFERROR(IF($E$34="Not Maintained",0,((VLOOKUP('FORM '!E37,KPIs!$A$8:$B$12,2,FALSE)))),0) -> 20 | G37: =F37 -> 20
C38: iii | D38: Professional training | E38: All BODs updated | F38: =IFERROR(IF($E$34="Not Maintained",0,((VLOOKUP('FORM '!E38,KPIs!$A$8:$B$12,2,FALSE)))),0) -> 20 | G38: =F38 -> 20
C39: iv | D39: Executive Directors role in the company | E39: All BODs updated | F39: =IFERROR(IF($E$34="Not Maintained",0,((VLOOKUP('FORM '!E39,KPIs!$A$8:$B$12,2,FALSE)))),0) -> 20 | G39: =F39 -> 20
B40: Total Earned | F40: =SUM(F34:F39) -> 100 | G40: =SUM(G34:G39) -> 100
B42: C. BOD and CS Key Responsibilities | E42: Write/Select from the dropdown list | F42: Score | G42: Earned | H42: Remarks / Reasons
B43: 1 | C43: Have there been any revisions to the AOA and MOA to align with the CG code and Model & Model AOA? | E43: Yes | F43: =IF(E43="Yes",8,0) -> 8 | G43: =F43 -> 8
B44: 2 | C44: Year of AOA revision to align with CG code and Model AOA | E44: 2025 | F44: =IF(E44="Not Revised",0,(IF(E44>2024,6,0))) -> 6 | G44: =F44 -> 6
B45: 3 | C45: Year of MOA revision to align with CG code | D45: MOA review after CG code 1 May 2019 | E45: 2019 | F45: =IF(E45="Not Revised",0,(IF(E45>2018,6,0))) -> 6 | G45: =F45 -> 6
B46: 4 | C46: AOA Covers:
C47: i | D47: Role of Chairperson as in CG Code & Model AOA | E47: Fully Covers | F47: =IFERROR(VLOOKUP(E47,KPIs!$A$16:$B$21,2,FALSE),0) -> 8 | G47: =F47 -> 8
C48: ii | D48: Role of the MD/CEO as in CG Code & Model AOA | E48: Fully Covers | F48: =IFERROR(VLOOKUP(E48,KPIs!$A$16:$B$21,2,FALSE),0) -> 8 | G48: =F48 -> 8
C49: iii | D49: Role of Executive Members as in CG Code & Model AOA | E49: Fully Covers | F49: =IFERROR(VLOOKUP(E49,KPIs!$A$16:$B$21,2,FALSE),0) -> 8 | G49: =F49 -> 8
...

Sheet KPIs
A1: Directors Registry | D1: Board Meeting | H1: E. Training and Development of Directors and Company Secretary (CS) | K1: CFO and CIA Requirement | O1: AGM | R1: Risk Management | U1: Others Matters
D2: Key Areas (Board meeting Minutes) | E2: SCORE/Earned | H2: Directors training | I2: SCORE/Earned | K2: Qualified Chartered Internal Auditor | L2: 10 | O2: AGM Months | P2: SCORE/Earned | R2: Risk Management (Recent circular and CG Code related) | S2: SCORE/Earned | U2: KPIs Progress | V2: SCORE/Earned
A3: 1.Register of directors | B3: SCORE/Earned | D3: Audio and in writing | E3: 15 | H3: All Directors have completed | I3: 14 | K3: IFAC body Membership | L3: 10 | O3: Jan of the Evaluating Year | P3: 5 | R3: Through Risk Management Independent Unit | S3: 30 | U3: 75% above achieved | V3: 8
A4: Maintained and Shared with PCB | B4: 20 | D4: Audio only | E4: 10 | H4: Majority completed | I4: 10 | K4: MNQA lvl 9(Auditing/Accounting/Finance) Certification | L4: 10 | O4: Feb of the Evaluating Year | P4: 5 | R4: Through internal audit | S4: 30 | U4: 50% above achieved | V4: 5
A5: Maintained but not shared with PCB | B5: 10 | D5: In Writing (with Signatures) | E5: 10 | H5: Few completed | I5: 7 | K5: Retained as per CH 4 (12) of CFO and CIA related Policy | L5: 5 | O5: Mar of the Evaluating Year | P5: 5 | R5: Through quality management system (QMS) | S5: 15 | U5: 50% less achieved | V5: 3
A6: Not Maintained | B6: 0 | D6: In writing (No Signature) | E6: 5 | H6: No Records | I6: 0 | K6: Doesn’t meet requirement | L6: 0 | O6: Apr of the Evaluating Year | P6: 5 | R6: Outsourced | S6: 10 | U6: Written but not endorsed | V6: 0
D7: Not maintained | E7: 0 | K7: MNQA lvl 9(Accounting/Finance) Certification | L7: 10 | O7: May of the Evaluating Year | P7: 5 | R7: Established but not functioning | S7: 5 | U7: Does not have | V7: 0
A8: 2. For Specific Informations (I, ii, iii, iv) | B8: SCORE/Earned | H8: Completion of Directors' Basic Induction Program by the Company | I8: SCORE/Earned | K8: Experience Requirement meet | L8: 10 | O8: Jun of the Evaluating Year | P8: 3 | R8: Not Established | S8: 0
A9: All BODs updated | B9: 20 | D9: Board Meeting Attendance | E9: SCORE/Earned | H9: All Directors have completed | I9: 14 | O9: Jul of the Evaluating Year | P9: 3 | U9: Implementation related | V9: SCORE/Earned
A10: Some BODs updated | B10: 10 | D10: Maintained and Shared with PCB | E10: 10 | H10: Majority completed | I10: 10 | K10: Position | O10: Aug of the Evaluating Year | P10: 3 | R10: Risk management policies | S10: SCORE/Earned | U10: 75% above Implemented | V10: 8
A11: Not Updated (but current BOD's outdated info exist) | B11: 5 | D11: Maintained and Not Shared with PCB | E11: 5 | H11: Few completed | I11: 7 | K11: Appointed | L11: 10 | O11: Sep of the Evaluating Year | P11: 3 | R11: Endorsed and Executed | S11: 20 | U11: 50% above Implemented | V11: 5
A12: No records | B12: 0 | D12: Not Maintained | E12: 0 | H12: No induction program | I12: 0 | K12: Acting Head | L12: 5 | O12: Oct of the Evaluating Year | P12: 3 | R12: Endorsed but not yet Executed | S12: 10 | U12: 50% less Implemented | V12: 3
K13: Vacant | L13: 0 | O13: Nov of the Evaluating Year | P13: 3 | R13: Written but not endorsed | S13: 3 | U13: Written but not endorsed | V13: 0
A14: AOA Covers: | H14: E. Training and Development of Directors and Company Secretary (CS) | O14: Dec of the Evaluating Year | P14: 3 | R14: Does not have | S14: 0 | U14: Does not have | V14: 0
D15: Agenda for board meetings are set by | E15: SCORE/Earned | H15: 1.Register of Interest | I15: SCORE/Earned | K15: Completion of Last Financial Year external Audit | O15: After the Evaluating Year | P15: 0
A16: Key Areas | B16: SCORE/Earned | D16: Chairman only | E16: 12 | H16: Maintained and Shared with PCB | I16: 16 | K16: Completed | L16: 20
A17: Fully Covers | B17: 8 | D17: Chairman and CS | E17: 10 | H17: Maintained but not shared with PCB | I17: 8 | K17: Ongoing, only last year Audit Pending | L17: 12 | O17: Availability of Notice and Agenda | U17: Endorsement | V17: SCORE/Earned
A18: Written Separately and covers | B18: 4 | D18: MD and CS | E18: 0 | H18: Not Maintained | I18: 0 | K18: Last year audit ongoing parallely with more than 1 year audit pending | L18: 10 | O18: Available on the website | P18: 8 | R18: Disclosing Risk Reports and Findings | S18: SCORE/Earned | U18: Endorsed and Executed | V18: 9
A19: Partially Covered in AOA and rest in the related Policy | B19: 6 | D19: MD/CEO | E19: 0 | K19: Last year audit ongoing parallely with more than 2 year audit pending | L19: 5 | O19: Available on request | P19: 5 | R19: ARC and Management | S19: 30 | U19: Endorsed but not yet executed | V19: 5
A20: Partially Covers | B20: 4 | D20: All together | E20: 8 | K20: Not Started/More than 3 year audit Pending (Even if last year audit going parallely) | O20: Not Available to the public | P20: 0 | R20: Management Only | S20: 5 | U20: Written but not endorsed | V20: 3
A21: Not Sure | B21: 0 | R21: ARC only | S21: 0 | U21: Does not have | V21: 0
D22: Timeframe for Agenda dispatch | E22: SCORE/Earned | K22: Internal Audit Function | O22: Duration of the Notice and agenda of the Annual General Meeting | R22: None | S22: 0
D23: 3 days in advance | E23: 12 | K23: Established and Functioning | L23: 10 | M23: CIA | O23: 14 days and more | P23: 6 | U23: Q report compliance | V23: SCORE/Earned
D24: 2 days in advance | E24: 6 | K24: Established but not functioning | L24: 5 | M24: CIA | O24: less than 14 days | P24: 0 | U24: Always | V24: 9
D25: Same day | E25: 2 | K25: Not yet established | L25: 0 | M25: CIA | U25: Sometimes | V25: 5
D26: Not Shared | E26: 0 | M26: CIA | O26: If ANY | U26: Have difficulties | V26: 3
K27: Internal Audit SOP | M27: CIA | O27: Yes | P27: 3
D28: Dispatching the documentation along with the agenda | E28: SCORE/Earned | K28: Endorsed and Executed | L28: 10 | M28: CIA | O28: Does not have a plan | P28: 3
D29: Always | E29: 12 | K29: Endorsed but not yet Executed | L29: 7 | M29: CIA | O29: No such material transaction | P29: 3
D30: Often | E30: 6 | K30: Written but not endorsed | L30: 5 | M30: CIA | O30: No revision | P30: 3
D31: Documents not shared | E31: 0 | K31: Does not have | L31: 0 | M31: CIA | O31: No such adoption | P31: 3
M32: CIA | O32: No | P32: 0
D33: Frequency of board meetings | E33: SCORE/Earned | K33: Regulator Complinace Audit | M33: CIA | O33: No new investment | P33: 3
D34: Weekly | E34: 12 | K34: Completed and findings shared with Audit Committee and Management | L34: 15 | M34: CIA | O34: No incentives | P34: 3
D35: Monthly | E35: 12 | K35: Completed and findings shared with Audit Committee only | L35: 0 | M35: CIA
D36: Quarterly | E36: 8 | K36: Completed and findings shared with Management only | L36: 0 | M36: CIA | O36: Structure change
D37: Bi-annually | E37: 4 | K37: Completed and findings shared with CEO/Managing Director only | L37: 0 | M37: CIA | O37: No Change | P37: 3
D38: Annually | E38: 1 | K38: Completed and findings not shared | L38: 0 | M38: CIA | O38: Followed guideline/Policy and Approval was received from MOF | P38: 3
D39: Other | E39: 0 | K39: Not Completed | L39: 0 | M39: CIA | O39: MOF Approval received but guideline was not followed | P39: 0
M40: CIA | O40: Changed without MOF Approval | P40: 0
...
